{"text_format":"1","workbook":"xlsx","n_sheets":6,"sheets":["選定書","変更履歴","マクロ入出力値","タンク基礎データ","膨張係数","image"],"not_rendered":{"charts":0,"images":9,"macros":1,"external_links":0,"defined_names":1,"comments":2,"pivot_tables":0},"unopened":[],"bounds":{"document_bytes":16777216,"sheet_cells":100000,"rows_first":2000,"rows_last":500,"rows_between":2000,"halvings":0,"cell_chars":16384,"cell_head_chars":4096},"cells_cut":0,"cells_raw":0,"read":"whole","date_system":"1900"}

{"sheet":"選定書","index":0,"n_rows":71,"n_cols":19,"rows_kept":71,"cut":false,"hidden":false,"merged":[[52,2,53,3],[44,6,44,12],[48,7,48,9],[46,2,46,3],[0,13,0,16],[5,3,5,9],[33,13,33,16],[17,11,17,15],[11,11,11,12],[9,13,9,14],[8,10,9,12],[8,1,9,3],[1,4,1,11],[5,1,5,2],[3,1,3,9],[4,13,4,15],[6,14,6,15],[3,14,3,15],[56,7,56,12],[50,7,50,9],[53,11,53,12],[52,5,53,5],[56,5,57,5],[57,7,58,10],[42,2,42,3],[37,1,37,9],[40,1,40,3],[42,6,42,12],[52,1,53,1],[52,4,53,4],[25,11,25,12],[31,11,31,15],[35,11,35,12],[32,12,32,16],[28,12,28,16],[29,13,29,16],[68,2,68,3],[68,5,68,6],[13,11,13,12],[42,14,42,15],[44,2,44,3],[27,11,27,15],[44,14,44,15],[37,11,37,12],[37,14,37,15],[21,11,21,12],[23,11,23,12],[25,14,25,15],[53,7,54,10],[54,11,54,12],[52,7,52,12],[15,11,15,12],[70,1,73,2],[72,3,72,16],[73,3,73,16],[71,3,71,16],[70,3,70,16],[64,15,64,16],[65,15,65,16],[66,15,66,16],[65,11,65,14],[66,11,66,14],[64,11,64,14],[64,2,64,4],[65,2,65,4],[60,7,60,9],[62,4,62,11],[66,2,66,4],[64,5,64,10],[65,5,65,10],[66,5,66,10],[62,2,62,3]]}
[]
[null,null,null,null,"密閉式膨張タンク選定フォーマット"]
[]
[null,null,null,null,null,null,null,null,null,null,"様"]
[]
[null,"件名"]
[null,null,null,null,null,null,null,null,null,null,null,null,null,null,{"$f":"TODAY()","v":"2024-05-31"}]
[]
[null," 密閉タンク位置図",null,null,null,null,null,null,null,null," 選定に必要なデｰタ"]
[]
[]
[null,null,null,null,null,null,null,null,null,null,"１．","給湯用､空調用の別",null,"給湯用"]
[]
[null,null,null,null,null,null,null,null,null,null,"２．","鋼板製､ステンレス製の別",null,"鋼板製"]
[]
[null,null,null,null,null,null,null,null,null,null,"３．","システム全水量",null,5000,"㍑"]
[null,null,null,null,null,null,null,null,null,null,null,null,null,"水"]
[null,null,null,null,null,null,null,null,null,null,null,"　給水管の逆止弁以降のすべての配管と機器の"]
[null,null,null,null,null,null,null,null,null,null,null,"　保有水量を合計して求めます。"]
[null,null,null,null,null,null,null,null,null,null,null,"　算出にあたっては、１０％の余裕を見てください。"]
[]
[null,null,null,null,null,null,null,null,null,null,"４．","システム水初期温度",null,5,"℃"]
[]
[null,null,null,null,null,null,null,null,null," ","５．","システム最高設定温度",null,60,"℃"]
[]
[null,null,null,null,null,null,null,null,null,null,"６．","補給水圧力",null,0.1,"ＭＰａ・Ｇ",null,null,null," "]
[null,null,null,null,null,null,null,null,null,null,null,"　給湯用の場合"]
[null,null,null,null,null,null,null,null,null,null,null,"システム水最高点までの高さ　Ｈ [ｍ]　÷　１００"]
[null,null,null,null,null,null,null,null,null,null,null,null,"　　　　　　　　+ 器具に必要な圧力　"]
[null,null,null,null,null,null,null,null,null,null,null,null,null,"　　　　　　（最低 ０．０７ＭＰａ）"]
[null,null,null,null,null,null,null,null,null,null,null,"　空調用の場合"]
[null,null,null,null,null,null,null,null,null,null,null,"システム水最高点までの高さ　Ｈ [ｍ]　÷　１００"]
[null,null,null,null,null,null,null,null,null,null,null,null,"　　　　　　　　　　　+ 空気抜きに必要な圧力　"]
[null,null,null,null,null,null,null,null,null,null,null,null,null,"　　　　　（最低 ０．０３ＭＰａ）　"]
[]
[null,null,null,null,null,null,null,null,null,null,"７．","循環ポンプ揚程",null,10,"ｍ"]
[]
[null,null,null,null,null,null,null,null,null,null,"８．","安全弁セット圧",null,0.6,"ＭＰａ・Ｇ"]
[]
[]
[null,"膨張タンク容量算定"]
[]
[null,"１、","タンク最低使用圧力：",null,"Ｐ１","＝",{"$f":"マクロ入出力値!C17","v":"補給水圧力"},null,null,null,null,null,null,{"$f":"マクロ入出力値!C13","v":0.1},"ＭＰａ・Ｇ"]
[]
[null,"２．","タンク最高使用圧力：",null,"Ｐ２","＝",{"$f":"マクロ入出力値!C18","v":"安全弁セット圧 - 循環ポンプ揚程"},null,null,null,null,null,null,{"$f":"マクロ入出力値!C14","v":0.5},"ＭＰａ・Ｇ"]
[]
[null,"３．","膨張水量：",null,"ＶＥ","＝","ＶＳ（システム全水量）　×　ε（膨張係数）"]
[]
[null,null,null,null,null,"＝",null,{"$f":"N16","v":5000},null,null,"×",{"$f":"ROUND(IF(N17=\"不凍液50%\",膨張係数!K12,膨張係数!D12),5)","v":1.506E-2}]
[]
[null,null,null,null,null,"＝",null,{"$f":"ROUND(H49*L49,1)","v":75.3},null,null,"㍑"]
[]
[null,"４．","タ ン ク 総 容 量　   ：",null,"Ｖ","＝",null,"ＶＥ"]
[null,null,null,null,null,null,null,"1  －",null,null,null,"Ｐ１＋0.1"]
[null,null,null,null,null,null,null,null,null,null,null,"Ｐ２＋0.1"]
[]
[null,null,null,null,null,"＝",null,{"$f":"H51","v":75.3}]
[null,null,null,null,null,null,null,"1  －",null,null,null,{"$f":"N43","v":0.1},"＋　0.1"]
[null,null,null,null,null,null,null,null,null,null,null,{"$f":"N45","v":0.5},"＋　0.1"]
[]
[null,null,null,null,null,"＝",null,{"$f":"IF(N43=N45,0,H57/(1-(L58+0.1)/(L59+0.1)))","v":112.95},null,null,"㍑"]
[]
[null,"５．","型  式  の  決  定"]
[]
[null,null,"選定型式",null,null,"容量",null,null,null,null,null,"最高使用圧力／最高使用温度"]
[null,null,"BFA-170NX(第二種圧力容器)",null,null,{"$f":"VLOOKUP(C66,タンク基礎データ!B4:F72,3,FALSE)","v":"総容量：170㍑、最大吸収容量：136㍑"},null,null,null,null,null,{"$f":"VLOOKUP(C66,タンク基礎データ!B4:F72,4,FALSE)","v":"最高使用圧力：0.6ＭＰａ、最高使用温度：95℃"}]
[null,2,{"$f":"IF($N$12=\"給湯用\",OFFSET(タンク基礎データ!B$3,タンク基礎データ!Q5,0),OFFSET(タンク基礎データ!B$49,タンク基礎データ!#REF!,0))","v":"AFX-200NX(第二種圧力容器)"},null,null,{"$f":"IF($N$12=\"給湯用\",OFFSET(タンク基礎データ!B$3,タンク基礎データ!Q5,2),OFFSET(タンク基礎データ!B$49,タンク基礎データ!#REF!,2))","v":"総容量：220㍑、最大吸収容量：176㍑"},null,null,null,null,null,{"$f":"IF($N$12=\"給湯用\",OFFSET(タンク基礎データ!B$3,タンク基礎データ!Q5,3),OFFSET(タンク基礎データ!B$49,タンク基礎データ!#REF!,3))","v":"最高使用圧力：0.8ＭＰａ、最高使用温度：95℃"}]
[]
[null,null,"空気封入圧力：",null,{"$f":"N43","v":0.1}," ＭＰａ・Ｇ"]
[]
[null,"備考"]

{"sheet":"変更履歴","index":1,"n_rows":16,"n_cols":3,"rows_kept":16,"cut":false,"hidden":true,"merged":[]}
["日付","内容","担当"]
["2014-10-25"," カタログ改定に伴い、選定される機種を変更","岡部"]
["2015-01-09","ソフトのバージョンによって？右肩のブランドマークが印刷時に拡大される対策","藤井"]
["2015-05-30","AC対応","山本真"]
["2016-03-01","0.8MPa.0.6MPa仕様に変更(BFA-12N-210N、AFX、AFU）","山本真"]
["2018-01-15","構造規格変更による改訂。全て0.8MPa.0.6MPa仕様に変更 AFX-60-100,AFU-3000-5000追加","山本真"]
["2018-11-16","HM-24：重量、本体高さ、最大吸収容量変更　HM-60：削除","堀"]
["2018-12-18","HM-8,18,50,100：追加","堀"]
["2021-06-24","AC廃番につき選択不可とした","堀"]
["2022-02-01","選定書計算式変更(L49,H51,H61)","堀"]
["2022-02-28","マクロ入出力値シート再表示不可に設定","堀"]
["2022-07-13","BFA-12NX～80NX廃番につき選択不可とした","堀"]
["2022-08-02","宛先、件名、備考欄 縮小して全体を表示するとした","堀"]
["2023-07-06","選定型式選択可能に変更、エラーコード修正、輸入品→内作品 容量修正","堀(若林)"]
["2024-03-19","AFX-20NX、AFX-30NX追加、現行品データをカタログ値へ修正","堀"]
["2024-05-31","BFA型式変更(名称のみ)、カタログに合わせてimage修正","堀"]

{"sheet":"マクロ入出力値","index":2,"n_rows":18,"n_cols":3,"rows_kept":18,"cut":false,"hidden":true,"merged":[]}
[]
[null,"入力値"]
[null,"給湯用､空調用の別",{"$f":"選定書!N12","v":"給湯用"}]
[null,"システム全水量",{"$f":"選定書!N16","v":5000}]
[null,"システム水初期温度",{"$f":"選定書!N22","v":5}]
[null,"システム最高設定温度",{"$f":"選定書!N24","v":60}]
[null,"補給水圧力",{"$f":"選定書!N26","v":0.1}]
[null,"循環ポンプ揚程",{"$f":"選定書!N36","v":10}]
[null,"安全弁セット圧",{"$f":"選定書!N38","v":0.6}]
[null,"膨張係数",{"$f":"選定書!L49","v":1.506E-2}]
[]
[null,"出力値"]
[null,"補給水圧力",0.1]
[null,"安全弁セット圧",0.5]
[null,"膨張水量",75.5]
[null,"タンク総容量",113.25]
[null,"P1計算式","補給水圧力"]
[null,"P2計算式","安全弁セット圧 - 循環ポンプ揚程"]

{"sheet":"タンク基礎データ","index":3,"n_rows":72,"n_cols":18,"rows_kept":72,"cut":false,"hidden":true,"merged":[]}
[]
[null,"密閉タンク基礎データ"]
[null,"型式","寸法","容量","最高使用圧力／最高使用温度","定価",null,null,null,null,null,null,null,null,{"$f":"10^5","v":100000}]
[null,"AC-8","寸法：φ205×335H、接続口径：20A","総容量：8㍑、最大吸収容量：5.3㍑","最高使用圧力：0.49ＭＰａ、最高使用温度：95℃",null,null,8,5.3,null,{"$f":"IF(AND(選定書!$H$61<=H4,選定書!$H$51<=I4,選定書!$N$38<=J4,選定書!$N$45<=J4),1,0)","v":0},{"$f":"K4","v":0},{"$f":"IF(L4=1,1,0)","v":0},{"$f":"M4","v":0},{"$f":"IF(選定書!$H$61*$O$3>H4,1,0)","v":1},null,{"$f":"MATCH(1,N4:N47,0)","v":20},{"$f":"IF(選定書!$H$61<=0,\"\",OFFSET(B$3,Q4,0))","v":"BFA-170NX(第二種圧力容器)"}]
[null,"AC-18","寸法：φ270×455H、接続口径：25A","総容量：18㍑、最大吸収容量：11.4㍑","最高使用圧力：0.49ＭＰａ、最高使用温度：95℃",null,null,18,11.4,null,{"$f":"IF(AND(選定書!$H$61<=H5,選定書!$H$51<=I5,選定書!$N$38<=J5,選定書!$N$45<=J5),1,0)","v":0},{"$f":"IF(K5<>0,L4+K5,0)","v":0},{"$f":"IF(L5=1,1,0)","v":0},{"$f":"N4+M5","v":0},{"$f":"IF(選定書!$H$61*$O$3>H5,1,0)","v":1},null,{"$f":"MATCH(2,N4:N47,0)","v":31},{"$f":"IF(選定書!$H$61<=0,\"\",IF(OFFSET($O$3,Q5,0)=1,OFFSET(B$3,Q5,0),\"\"))","v":"AFX-200NX(第二種圧力容器)"}]
[null,"AC-24","寸法：φ270×495H、接続口径：25A","総容量：24㍑、最大吸収容量：16.3㍑","最高使用圧力：0.49ＭＰａ、最高使用温度：95℃",null,null,24,16.3,null,{"$f":"IF(AND(選定書!$H$61<=H6,選定書!$H$51<=I6,選定書!$N$38<=J6,選定書!$N$45<=J6),1,0)","v":0},{"$f":"IF(K6<>0,L5+K6,0)","v":0},{"$f":"IF(L6=1,1,0)","v":0},{"$f":"N5+M6","v":0},{"$f":"IF(選定書!$H$61*$O$3>H6,1,0)","v":1},null,{"$f":"MATCH(3,N4:N47,0)","v":{"$error":"#N/A"}},{"$f":"IF(選定書!$H$61<=0,\"\",IF(OFFSET($O$3,Q6,0)=1,OFFSET(B$3,Q6,0),\"\"))","v":{"$error":"#N/A"}}]
[null,"AC-35","寸法：φ400×436H、接続口径：25A","総容量：35㍑、最大吸収容量23.8：㍑","最高使用圧力：0.49ＭＰａ、最高使用温度：95℃",null,null,35,23.8,null,{"$f":"IF(AND(選定書!$H$61<=H7,選定書!$H$51<=I7,選定書!$N$38<=J7,選定書!$N$45<=J7),1,0)","v":0},0,{"$f":"IF(L7=1,1,0)","v":0},0,{"$f":"IF(選定書!$H$61*$O$3>H7,1,0)","v":1},null,{"$f":"MATCH(4,N4:N47,0)","v":{"$error":"#N/A"}},{"$f":"IF(選定書!$H$61<=0,\"\",IF(OFFSET($O$3,Q7,0)=1,OFFSET(B$3,Q7,0),\"\"))","v":{"$error":"#N/A"}}]
[null,"AC-50","寸法：φ400×600H、接続口径：25A","総容量：50㍑、最大吸収容量：30㍑","最高使用圧力：0.20ＭＰａ、最高使用温度：95℃",null,null,50,30,null,{"$f":"IF(AND(選定書!$H$61<=H8,選定書!$H$51<=I8,選定書!$N$38<=J8,選定書!$N$45<=J8),1,0)","v":0},0,{"$f":"IF(L8=1,1,0)","v":0},0,{"$f":"IF(選定書!$H$61*$O$3>H8,1,0)","v":1}]
[null,null,null,null,null,null,null,null,null,null,null,null,null,{"$f":"N8+M9","v":0}]
[null,"JTX-80","寸法：φ400×810H、接続口径：25A","総容量：80㍑、最大吸収容量50：㍑","最高使用圧力：0.19ＭＰａ、最高使用温度：95℃",null,null,80,50,0.19,{"$f":"IF(AND(選定書!$H$61<=H10,選定書!$H$51<=I10,選定書!$N$38<=J10,選定書!$N$45<=J10),1,0)","v":0},0,{"$f":"IF(L10=1,1,0)","v":0},{"$f":"N9+M10","v":0},{"$f":"IF(選定書!$H$61*$O$3>H10,1,0)","v":1}]
[null,"JTX-100","寸法：φ500×740H、接続口径：25A","総容量：100㍑、最大吸収容量：63㍑","最高使用圧力：0.19ＭＰａ、最高使用温度：95℃",null,null,100,63,0.19,{"$f":"IF(AND(選定書!$H$61<=H11,選定書!$H$51<=I11,選定書!$N$38<=J11,選定書!$N$45<=J11),1,0)","v":0},0,0,0,{"$f":"IF(選定書!$H$61*$O$3>H11,1,0)","v":1}]
[null,"JTX-150","寸法：φ500×945H、接続口径：25A","総容量：150㍑、最大吸収容量：95㍑","最高使用圧力：0.19ＭＰａ、最高使用温度：95℃",null,null,150,95,0.19,{"$f":"IF(AND(選定書!$H$61<=H12,選定書!$H$51<=I12,選定書!$N$38<=J12,選定書!$N$45<=J12),1,0)","v":0},0,0,0,{"$f":"IF(選定書!$H$61*$O$3>H12,1,0)","v":1}]
[null,"JTX-200","寸法：φ605×1035H、接続口径：32A","総容量：200㍑、最大吸収容量：126㍑","最高使用圧力：0.19ＭＰａ、最高使用温度：95℃",null,null,200,126,0.19,{"$f":"IF(AND(選定書!$H$61<=H13,選定書!$H$51<=I13,選定書!$N$38<=J13,選定書!$N$45<=J13),1,0)","v":0},0,0,0,{"$f":"IF(選定書!$H$61*$O$3>H13,1,0)","v":1}]
[null,"JTX-300","寸法：φ650×1215H、接続口径：32A","総容量：300㍑、最大吸収容量：190㍑","最高使用圧力：0.19ＭＰａ、最高使用温度：95℃",null,null,300,190,0.19,{"$f":"IF(AND(選定書!$H$61<=H14,選定書!$H$51<=I14,選定書!$N$38<=J14,選定書!$N$45<=J14),1,0)","v":0},0,0,0,{"$f":"IF(選定書!$H$61*$O$3>H14,1,0)","v":1}]
[null,"JTX-500","寸法：φ775×1400H、接続口径：32A","総容量：500㍑、最大吸収容量：315㍑","最高使用圧力：0.20ＭＰａ、最高使用温度：95℃",null,null,500,315,null,{"$f":"IF(AND(選定書!$H$61<=H15,選定書!$H$51<=I15,選定書!$N$38<=J15,選定書!$N$45<=J15),1,0)","v":0},0,0,0,{"$f":"IF(選定書!$H$61*$O$3>H15,1,0)","v":1}]
[null,null,null,null,null,null,null,null,null,null,null,null,null,0]
[null,"BFA-12NX","寸法：φ305×430H、接続口径：20A","総容量：19㍑、最大吸収容量：12㍑","最高使用圧力：0.8ＭＰａ、最高使用温度：95℃",null,null,19,12,null,{"$f":"IF(AND(選定書!$H$61<=H17,選定書!$H$51<=I17,選定書!$N$38<=J17,選定書!$N$45<=J17),1,0)","v":0},0,{"$f":"IF(L17=1,1,0)","v":0},0,{"$f":"IF(選定書!$H$61*$O$3>H17,1,0)","v":1}]
[null,"BFA-20NX","寸法：φ305×550H、接続口径：20A","総容量：30㍑、最大吸収容量：12㍑","最高使用圧力：0.8ＭＰａ、最高使用温度：95℃",null,null,30,12,null,{"$f":"IF(AND(選定書!$H$61<=H18,選定書!$H$51<=I18,選定書!$N$38<=J18,選定書!$N$45<=J18),1,0)","v":0},0,0,0,{"$f":"IF(選定書!$H$61*$O$3>H18,1,0)","v":1}]
[null,"BFA-30NX(第二種圧力容器)","寸法：φ356×720H、接続口径：25A","総容量：56㍑、最大吸収容量：40㍑","最高使用圧力：0.8ＭＰａ、最高使用温度：95℃",null,null,56,40,null,{"$f":"IF(AND(選定書!$H$61<=H19,選定書!$H$51<=I19,選定書!$N$38<=J19,選定書!$N$45<=J19),1,0)","v":0},0,0,0,{"$f":"IF(選定書!$H$61*$O$3>H19,1,0)","v":1}]
[null,"BFA-42NX(第二種圧力容器)","寸法：φ406×860H、接続口径：25A","総容量：90㍑、最大吸収容量：59㍑","最高使用圧力：0.8ＭＰａ、最高使用温度：95℃",null,null,90,59,null,{"$f":"IF(AND(選定書!$H$61<=H20,選定書!$H$51<=I20,選定書!$N$38<=J20,選定書!$N$45<=J20),1,0)","v":0},0,0,0,{"$f":"IF(選定書!$H$61*$O$3>H20,1,0)","v":1}]
[null,"BFA-60NX(第二種圧力容器)","寸法：φ406×930H、接続口径：25A","総容量：99㍑、最大吸収容量：59㍑","最高使用圧力：0.8ＭＰａ、最高使用温度：95℃",null,null,99,59,null,{"$f":"IF(AND(選定書!$H$61<=H21,選定書!$H$51<=I21,選定書!$N$38<=J21,選定書!$N$45<=J21),1,0)","v":0},0,0,0,{"$f":"IF(選定書!$H$61*$O$3>H21,1,0)","v":1}]
[null,"BFA-80NX(第二種圧力容器)","寸法：φ406×1200H、接続口径：25A","総容量：133㍑、最大吸収容量：59㍑","最高使用圧力：0.8ＭＰａ、最高使用温度：95℃",null,null,133,59,null,{"$f":"IF(AND(選定書!$H$61<=H22,選定書!$H$51<=I22,選定書!$N$38<=J22,選定書!$N$45<=J22),1,0)","v":0},0,0,0,{"$f":"IF(選定書!$H$61*$O$3>H22,1,0)","v":1}]
[null,"BFA-170NX(第二種圧力容器)","寸法：φ506.4×1156H、接続口径：25A","総容量：170㍑、最大吸収容量：136㍑","最高使用圧力：0.6ＭＰａ、最高使用温度：95℃",null,null,170,136,0.6,{"$f":"IF(AND(選定書!$H$61<=H23,選定書!$H$51<=I23,選定書!$N$38<=J23,選定書!$N$45<=J23),1,0)","v":1},1,1,1,{"$f":"IF(選定書!$H$61*$O$3>H23,1,0)","v":1}]
[null,"BFA-220NX(第二種圧力容器)","寸法：φ506.4×1436H、接続口径：25A","総容量：220㍑、最大吸収容量：181㍑","最高使用圧力：0.6ＭＰａ、最高使用温度：95℃",null,null,220,181,0.6,{"$f":"IF(AND(選定書!$H$61<=H24,選定書!$H$51<=I24,選定書!$N$38<=J24,選定書!$N$45<=J24),1,0)","v":1},2,0,1,{"$f":"IF(選定書!$H$61*$O$3>H24,1,0)","v":1}]
[null,"BFA-290NX(第二種圧力容器)","寸法：φ609×1344H、接続口径：32A","総容量：290㍑、最大吸収容量：236㍑","最高使用圧力：0.6ＭＰａ、最高使用温度：95℃",null,null,290,236,0.6,{"$f":"IF(AND(選定書!$H$61<=H25,選定書!$H$51<=I25,選定書!$N$38<=J25,選定書!$N$45<=J25),1,0)","v":1},3,0,1,{"$f":"IF(選定書!$H$61*$O$3>H25,1,0)","v":1}]
[null,"BFA-320NX(第二種圧力容器)","寸法：φ609×1424H、接続口径：32A","総容量：320㍑、最大吸収容量：250㍑","最高使用圧力：0.6ＭＰａ、最高使用温度：95℃",null,null,320,250,0.6,{"$f":"IF(AND(選定書!$H$61<=H26,選定書!$H$51<=I26,選定書!$N$38<=J26,選定書!$N$45<=J26),1,0)","v":1},4,0,1,{"$f":"IF(選定書!$H$61*$O$3>H26,1,0)","v":1}]
[null,"BFA-340NX(第二種圧力容器)","寸法：φ609×1494H、接続口径：32A","総容量：340㍑、最大吸収容量：270㍑","最高使用圧力：0.6ＭＰａ、最高使用温度：95℃",null,null,340,270,0.6,{"$f":"IF(AND(選定書!$H$61<=H27,選定書!$H$51<=I27,選定書!$N$38<=J27,選定書!$N$45<=J27),1,0)","v":1},5,0,1,{"$f":"IF(選定書!$H$61*$O$3>H27,1,0)","v":1}]
[null,null,null,null,null,null,null,null,null,null,null,null,null,1]
[null,"AFX-20NX","寸法：φ305×419H、接続口径：25A","総容量：20㍑、最大吸収容量：16㍑","最高使用圧力：1.0ＭＰａ、最高使用温度：95℃",null,null,20,16,1,{"$f":"IF(AND(選定書!$H$61<=H29,選定書!$H$51<=I29,選定書!$N$38<=J29,選定書!$N$45<=J29),1,0)","v":0},{"$f":"IF(K29<>0,L28+K29,0)","v":0},{"$f":"IF(L29=1,1,0)","v":0},{"$f":"N28+M29","v":1},{"$f":"IF(選定書!$H$61*$O$3>H29,1,0)","v":1}]
[null,"AFX-30NX","寸法：φ305×559H、接続口径：25A","総容量：30㍑、最大吸収容量：24㍑","最高使用圧力：1.0ＭＰａ、最高使用温度：95℃",null,null,30,24,1,{"$f":"IF(AND(選定書!$H$61<=H30,選定書!$H$51<=I30,選定書!$N$38<=J30,選定書!$N$45<=J30),1,0)","v":0},0,{"$f":"IF(L30=1,1,0)","v":0},1,{"$f":"IF(選定書!$H$61*$O$3>H30,1,0)","v":1}]
[null,"AFX-60NX(第二種圧力容器)","寸法：φ400×758H、接続口径：25A","総容量：60㍑、最大吸収容量：48㍑","最高使用圧力：0.8ＭＰａ、最高使用温度：95℃",null,null,60,48,0.8,{"$f":"IF(AND(選定書!$H$61<=H31,選定書!$H$51<=I31,選定書!$N$38<=J31,選定書!$N$45<=J31),1,0)","v":0},0,{"$f":"IF(L31=1,1,0)","v":0},1,{"$f":"IF(選定書!$H$61*$O$3>H31,1,0)","v":1}]
[null,"AFX-80NX(第二種圧力容器)","寸法：φ450×807H、接続口径：25A","総容量：80㍑、最大吸収容量：64㍑","最高使用圧力：0.8ＭＰａ、最高使用温度：95℃",null,null,80,64,0.8,{"$f":"IF(AND(選定書!$H$61<=H32,選定書!$H$51<=I32,選定書!$N$38<=J32,選定書!$N$45<=J32),1,0)","v":0},0,{"$f":"IF(L32=1,1,0)","v":0},1,{"$f":"IF(選定書!$H$61*$O$3>H32,1,0)","v":1}]
[null,"AFX-100NX(第二種圧力容器)","寸法：φ500×860H、接続口径：25A","総容量：100㍑、最大吸収容量：87㍑","最高使用圧力：0.8ＭＰａ、最高使用温度：95℃",null,null,100,87,0.8,{"$f":"IF(AND(選定書!$H$61<=H33,選定書!$H$51<=I33,選定書!$N$38<=J33,選定書!$N$45<=J33),1,0)","v":0},0,0,1,{"$f":"IF(選定書!$H$61*$O$3>H33,1,0)","v":1}]
[null,"AFX-200NX(第二種圧力容器)","寸法：φ600×1119H、接続口径：25A","総容量：220㍑、最大吸収容量：176㍑","最高使用圧力：0.8ＭＰａ、最高使用温度：95℃",null,null,220,176,0.8,{"$f":"IF(AND(選定書!$H$61<=H34,選定書!$H$51<=I34,選定書!$N$38<=J34,選定書!$N$45<=J34),1,0)","v":1},1,1,2,{"$f":"IF(選定書!$H$61*$O$3>H34,1,0)","v":1}]
[null,"AFX-300NX(第二種圧力容器)","寸法：φ600×1422H、接続口径：25A","総容量：300㍑、最大吸収容量：246㍑","最高使用圧力：0.8ＭＰａ、最高使用温度：95℃",null,null,300,246,0.8,{"$f":"IF(AND(選定書!$H$61<=H35,選定書!$H$51<=I35,選定書!$N$38<=J35,選定書!$N$45<=J35),1,0)","v":1},2,0,{"$f":"N34+M35","v":2},{"$f":"IF(選定書!$H$61*$O$3>H35,1,0)","v":1}]
[null,"AFX-400NX(第二種圧力容器)","寸法：φ750×1276H、接続口径：25A","総容量：400㍑、最大吸収容量：320㍑","最高使用圧力：0.8ＭＰａ、最高使用温度：95℃",null,null,400,320,0.8,{"$f":"IF(AND(選定書!$H$61<=H36,選定書!$H$51<=I36,選定書!$N$38<=J36,選定書!$N$45<=J36),1,0)","v":1},3,0,2,{"$f":"IF(選定書!$H$61*$O$3>H36,1,0)","v":1}]
[null,"AFX-500NX(第二種圧力容器)","寸法：φ750×1495H、接続口径：25A","総容量：500㍑、最大吸収容量：401㍑","最高使用圧力：0.8ＭＰａ、最高使用温度：95℃",null,null,500,401,0.8,{"$f":"IF(AND(選定書!$H$61<=H37,選定書!$H$51<=I37,選定書!$N$38<=J37,選定書!$N$45<=J37),1,0)","v":1},4,0,2,{"$f":"IF(選定書!$H$61*$O$3>H37,1,0)","v":1}]
[null,"AFX-600NX(第二種圧力容器)","寸法：φ750×1723H、接続口径：40A","総容量：600.㍑、最大吸収容量：480㍑","最高使用圧力：0.8ＭＰａ、最高使用温度：95℃",null,null,600,480,0.8,{"$f":"IF(AND(選定書!$H$61<=H38,選定書!$H$51<=I38,選定書!$N$38<=J38,選定書!$N$45<=J38),1,0)","v":1},5,0,2,{"$f":"IF(選定書!$H$61*$O$3>H38,1,0)","v":1}]
[null,"AFX-800NX(第二種圧力容器)","寸法：φ800×1909H、接続口径：40A","総容量：800㍑、最大吸収容量：640㍑","最高使用圧力：0.8ＭＰａ、最高使用温度：95℃",null,null,800,640,0.8,{"$f":"IF(AND(選定書!$H$61<=H39,選定書!$H$51<=I39,選定書!$N$38<=J39,選定書!$N$45<=J39),1,0)","v":1},6,0,2,{"$f":"IF(選定書!$H$61*$O$3>H39,1,0)","v":1}]
[null,"AFX-1000NX(第二種圧力容器)","寸法：φ900×2209H、接続口径：40A","総容量：1000㍑、最大吸収容量：800㍑","最高使用圧力：0.8ＭＰａ、最高使用温度：95℃",null,null,1000,800,0.8,{"$f":"IF(AND(選定書!$H$61<=H40,選定書!$H$51<=I40,選定書!$N$38<=J40,選定書!$N$45<=J40),1,0)","v":1},7,0,2,{"$f":"IF(選定書!$H$61*$O$3>H40,1,0)","v":1}]
[null,"AFX-1200NX(第二種圧力容器)","寸法：φ900×2524H、接続口径：40A","総容量：1200㍑、最大吸収容量：960㍑","最高使用圧力：0.8ＭＰａ、最高使用温度：95℃",null,null,1200,960,0.8,{"$f":"IF(AND(選定書!$H$61<=H41,選定書!$H$51<=I41,選定書!$N$38<=J41,選定書!$N$45<=J41),1,0)","v":1},{"$f":"IF(K41<>0,L40+K41,0)","v":8},0,2,{"$f":"IF(選定書!$H$61*$O$3>H41,1,0)","v":1}]
[null,"AFX-1400NX(第二種圧力容器)","寸法：φ900×2839H、接続口径：40A","総容量：1400㍑、最大吸収容量：1120㍑","最高使用圧力：0.8ＭＰａ、最高使用温度：95℃",null,null,1400,1120,0.8,{"$f":"IF(AND(選定書!$H$61<=H42,選定書!$H$51<=I42,選定書!$N$38<=J42,選定書!$N$45<=J42),1,0)","v":1},9,0,2,{"$f":"IF(選定書!$H$61*$O$3>H42,1,0)","v":1}]
[null,"AFX-1600NX(第二種圧力容器)","寸法：φ1200×2185H、接続口径：50A","総容量：1600㍑、最大吸収容量：1280㍑","最高使用圧力：0.8ＭＰａ、最高使用温度：95℃",null,null,1600,1280,0.8,{"$f":"IF(AND(選定書!$H$61<=H43,選定書!$H$51<=I43,選定書!$N$38<=J43,選定書!$N$45<=J43),1,0)","v":1},10,0,2,{"$f":"IF(選定書!$H$61*$O$3>H43,1,0)","v":1}]
[null,"AFX-2000NX(第二種圧力容器)","寸法：φ1200×2535H、接続口径：50A","総容量：2000㍑、最大吸収容量：1600㍑","最高使用圧力：0.8ＭＰａ、最高使用温度：95℃",null,null,2000,1600,0.8,{"$f":"IF(AND(選定書!$H$61<=H44,選定書!$H$51<=I44,選定書!$N$38<=J44,選定書!$N$45<=J44),1,0)","v":1},11,0,2,{"$f":"IF(選定書!$H$61*$O$3>H44,1,0)","v":1}]
[null,"AFX-3000NX(第二種圧力容器)","寸法：φ1200×3437H、接続口径：50A","総容量：3010㍑、最大吸収容量：2400㍑","最高使用圧力：0.8ＭＰａ、最高使用温度：95℃",null,null,3010,2400,0.8,{"$f":"IF(AND(選定書!$H$61<=H45,選定書!$H$51<=I45,選定書!$N$38<=J45,選定書!$N$45<=J45),1,0)","v":1},12,0,2,{"$f":"IF(選定書!$H$61*$O$3>H45,1,0)","v":1}]
[null,"AFX-4000NX(第二種圧力容器)","寸法：φ1500×3081H、接続口径：50A","総容量：4000㍑、最大吸収容量：3200㍑","最高使用圧力：0.8ＭＰａ、最高使用温度：95℃",null,null,4000,3200,0.8,{"$f":"IF(AND(選定書!$H$61<=H46,選定書!$H$51<=I46,選定書!$N$38<=J46,選定書!$N$45<=J46),1,0)","v":1},13,0,2,{"$f":"IF(選定書!$H$61*$O$3>H46,1,0)","v":1}]
[null,"AFX-5000NX(第二種圧力容器)","寸法：φ1500×3681H、接続口径：50A","総容量：5060㍑、最大吸収容量：4040㍑","最高使用圧力：0.8ＭＰａ、最高使用温度：95℃",null,null,5060,4040,0.8,{"$f":"IF(AND(選定書!$H$61<=H47,選定書!$H$51<=I47,選定書!$N$38<=J47,選定書!$N$45<=J47),1,0)","v":1},14,0,2,{"$f":"IF(選定書!$H$61*$O$3>H47,1,0)","v":1}]
[]
[]
[null,"HM-8","寸法：φ200×340H、接続口径：20A","総容量：8㍑、最大吸収容量：6.4㍑","最高使用圧力：0.49ＭＰａ、最高使用温度：95℃",null,null,8,6.4,0.49,{"$f":"IF(AND(選定書!$H$61<=H50,選定書!$H$51<=I50,選定書!$N$38<=J50,選定書!$N$45<=J50),1,0)","v":0},{"$f":"K50","v":0},{"$f":"IF(L50=1,1,0)","v":0},{"$f":"M50","v":0},{"$f":"IF(選定書!$H$61*$O$3>H50,1,0)","v":1},null,{"$f":"MATCH(1,N50:N72,0)","v":10},{"$f":"IF(選定書!$H$61<=0,\"\",OFFSET(B$49,Q50,0))","v":"AFU-200NX(第二種圧力容器)"}]
[null,"HM-18","寸法：φ270×390H、接続口径：25A","総容量：18㍑、最大吸収容量：14.4㍑","最高使用圧力：0.49ＭＰａ、最高使用温度：95℃",null,null,18,14.4,0.49,{"$f":"IF(AND(選定書!$H$61<=H51,選定書!$H$51<=I51,選定書!$N$38<=J51,選定書!$N$45<=J51),1,0)","v":0},{"$f":"IF(K51<>0,L50+K51,0)","v":0},{"$f":"IF(L51=1,1,0)","v":0},{"$f":"N50+M51","v":0},{"$f":"IF(選定書!$H$61*$O$3>H51,1,0)","v":1},null,{"$f":"MATCH(2,N50:N72,0)","v":{"$error":"#N/A"}},{"$f":"IF(選定書!$H$61<=0,\"\",IF(OFFSET($O$3,Q51,0)=1,OFFSET(B$49,Q51,0),\"\"))","v":{"$error":"#N/A"}}]
[null,"HM-24","寸法：φ270×510H、接続口径：25A","総容量：24㍑、最大吸収容量：19.2㍑","最高使用圧力：0.49ＭＰａ、最高使用温度：95℃",null,null,24,19.2,0.49,{"$f":"IF(AND(選定書!$H$61<=H52,選定書!$H$51<=I52,選定書!$N$38<=J52,選定書!$N$45<=J52),1,0)","v":0},0,0,0,{"$f":"IF(選定書!$H$61*$O$3>H52,1,0)","v":1}]
[null,"HM-50","寸法：φ365×730H、接続口径：25A","総容量：50㍑、最大吸収容量：30㍑","最高使用圧力：0.19ＭＰａ、最高使用温度：95℃",null,null,50,30,0.19,{"$f":"IF(AND(選定書!$H$61<=H53,選定書!$H$51<=I53,選定書!$N$38<=J53,選定書!$N$45<=J53),1,0)","v":0},0,0,0,{"$f":"IF(選定書!$H$61*$O$3>H53,1,0)","v":1}]
[null,"HM-100","寸法：φ495×820H、接続口径：25A","総容量：100㍑、最大吸収容量：60㍑","最高使用圧力：0.19ＭＰａ、最高使用温度：95℃",null,null,100,60,0.19,{"$f":"IF(AND(選定書!$H$61<=H54,選定書!$H$51<=I54,選定書!$N$38<=J54,選定書!$N$45<=J54),1,0)","v":0},0,0,0,{"$f":"IF(選定書!$H$61*$O$3>H54,1,0)","v":1}]
[null,null,null,null,null,null,null,null,null,null,null,null,null,0]
[null,"AFU-60NX(第二種圧力容器)","寸法：φ400×758H、接続口径：25A","総容量：60㍑、最大吸収容量：48㍑","最高使用圧力：0.8ＭＰａ、最高使用温度：95℃",null,null,60,48,0.8,{"$f":"IF(AND(選定書!$H$61<=H56,選定書!$H$51<=I56,選定書!$N$38<=J56,選定書!$N$45<=J56),1,0)","v":0},{"$f":"IF(K56<>0,L55+K56,0)","v":0},{"$f":"IF(L56=1,1,0)","v":0},0,{"$f":"IF(選定書!$H$61*$O$3>H56,1,0)","v":1}]
[null,"AFU-80NX(第二種圧力容器)","寸法：φ450×804H、接続口径：25A","総容量：80㍑、最大吸収容量：64㍑","最高使用圧力：0.8ＭＰａ、最高使用温度：95℃",null,null,80,64,0.8,{"$f":"IF(AND(選定書!$H$61<=H57,選定書!$H$51<=I57,選定書!$N$38<=J57,選定書!$N$45<=J57),1,0)","v":0},{"$f":"IF(K57<>0,L56+K57,0)","v":0},0,{"$f":"N56+M57","v":0},{"$f":"IF(選定書!$H$61*$O$3>H57,1,0)","v":1}]
[null,"AFU-100NX(第二種圧力容器)","寸法：φ500×857H、接続口径：25A","総容量：109㍑、最大吸収容量：87㍑","最高使用圧力：0.8ＭＰａ、最高使用温度：95℃",null,null,109,87,0.8,{"$f":"IF(AND(選定書!$H$61<=H58,選定書!$H$51<=I58,選定書!$N$38<=J58,選定書!$N$45<=J58),1,0)","v":0},0,{"$f":"IF(L58=1,1,0)","v":0},0,{"$f":"IF(選定書!$H$61*$O$3>H58,1,0)","v":1}]
[null,"AFU-200NX(第二種圧力容器)","寸法：φ600×1111H、接続口径：25A","総容量：208㍑、最大吸収容量：165㍑","最高使用圧力：0.8ＭＰａ、最高使用温度：95℃",null,null,208,165,0.8,{"$f":"IF(AND(選定書!$H$61<=H59,選定書!$H$51<=I59,選定書!$N$38<=J59,選定書!$N$45<=J59),1,0)","v":1},{"$f":"IF(K59<>0,L58+K59,0)","v":1},1,1,{"$f":"IF(選定書!$H$61*$O$3>H59,1,0)","v":1}]
[null,"AFU-300NX(第二種圧力容器)","寸法：φ600×1438H、接続口径：25A","総容量：300㍑、最大吸収容量：240㍑","最高使用圧力：0.8ＭＰａ、最高使用温度：95℃",null,null,300,240,0.8,{"$f":"IF(AND(選定書!$H$61<=H60,選定書!$H$51<=I60,選定書!$N$38<=J60,選定書!$N$45<=J60),1,0)","v":1},2,0,1,{"$f":"IF(選定書!$H$61*$O$3>H60,1,0)","v":1}]
[null,"AFU-400NX(第二種圧力容器)","寸法：φ750×1309H、接続口径：25A","総容量：400㍑、最大吸収容量：320㍑","最高使用圧力：0.8ＭＰａ、最高使用温度：95℃",null,null,400,320,0.8,{"$f":"IF(AND(選定書!$H$61<=H61,選定書!$H$51<=I61,選定書!$N$38<=J61,選定書!$N$45<=J61),1,0)","v":1},3,0,1,{"$f":"IF(選定書!$H$61*$O$3>H61,1,0)","v":1}]
[null,"AFU-500NX(第二種圧力容器)","寸法：φ750×1528H、接続口径：25A","総容量：500㍑、最大吸収容量：400㍑","最高使用圧力：0.8ＭＰａ、最高使用温度：95℃",null,null,500,400,0.8,{"$f":"IF(AND(選定書!$H$61<=H62,選定書!$H$51<=I62,選定書!$N$38<=J62,選定書!$N$45<=J62),1,0)","v":1},4,0,1,{"$f":"IF(選定書!$H$61*$O$3>H62,1,0)","v":1}]
[null,"AFU-600NX(第二種圧力容器)","寸法：φ750×1754H、接続口径：40A","総容量：600㍑、最大吸収容量：480㍑","最高使用圧力：0.8ＭＰａ、最高使用温度：95℃",null,null,600,480,0.8,{"$f":"IF(AND(選定書!$H$61<=H63,選定書!$H$51<=I63,選定書!$N$38<=J63,選定書!$N$45<=J63),1,0)","v":1},5,0,1,{"$f":"IF(選定書!$H$61*$O$3>H63,1,0)","v":1}]
[null,"AFU-800NX(第二種圧力容器)","寸法：φ900×1656H、接続口径：40A","総容量：800㍑、最大吸収容量：640㍑","最高使用圧力：0.8ＭＰａ、最高使用温度：95℃",null,null,800,640,0.8,{"$f":"IF(AND(選定書!$H$61<=H64,選定書!$H$51<=I64,選定書!$N$38<=J64,選定書!$N$45<=J64),1,0)","v":1},6,0,1,{"$f":"IF(選定書!$H$61*$O$3>H64,1,0)","v":1}]
[null,"AFU-1000NX(第二種圧力容器)","寸法：φ900×2193H、接続口径：40A","総容量：1000㍑、最大吸収容量：800㍑","最高使用圧力：0.8ＭＰａ、最高使用温度：95℃",null,null,1000,800,0.8,{"$f":"IF(AND(選定書!$H$61<=H65,選定書!$H$51<=I65,選定書!$N$38<=J65,選定書!$N$45<=J65),1,0)","v":1},7,0,1,{"$f":"IF(選定書!$H$61*$O$3>H65,1,0)","v":1}]
[null,"AFU-1200NX(第二種圧力容器)","寸法：φ900×2508H、接続口径：40A","総容量：1200㍑、最大吸収容量：960㍑","最高使用圧力：0.8ＭＰａ、最高使用温度：95℃",null,null,1200,960,0.8,{"$f":"IF(AND(選定書!$H$61<=H66,選定書!$H$51<=I66,選定書!$N$38<=J66,選定書!$N$45<=J66),1,0)","v":1},8,0,1,{"$f":"IF(選定書!$H$61*$O$3>H66,1,0)","v":1}]
[null,"AFU-1400NX(第二種圧力容器)","寸法：φ900×2823H、接続口径：40A","総容量：1400㍑、最大吸収容量：1120㍑","最高使用圧力：0.8ＭＰａ、最高使用温度：95℃",null,null,1400,1120,0.8,{"$f":"IF(AND(選定書!$H$61<=H67,選定書!$H$51<=I67,選定書!$N$38<=J67,選定書!$N$45<=J67),1,0)","v":1},9,0,1,{"$f":"IF(選定書!$H$61*$O$3>H67,1,0)","v":1}]
[null,"AFU-1600NX(第二種圧力容器)","寸法：φ1200×2185H、接続口径：50A","総容量：1600㍑、最大吸収容量：1280㍑","最高使用圧力：0.8ＭＰａ、最高使用温度：95℃",null,null,1600,1280,0.8,{"$f":"IF(AND(選定書!$H$61<=H68,選定書!$H$51<=I68,選定書!$N$38<=J68,選定書!$N$45<=J68),1,0)","v":1},10,0,1,{"$f":"IF(選定書!$H$61*$O$3>H68,1,0)","v":1}]
[null,"AFU-2000NX(第二種圧力容器)","寸法：φ1200×2545H、接続口径：50A","総容量：2000㍑、最大吸収容量：1600㍑","最高使用圧力：0.8ＭＰａ、最高使用温度：95℃",null,null,2000,1600,0.8,{"$f":"IF(AND(選定書!$H$61<=H69,選定書!$H$51<=I69,選定書!$N$38<=J69,選定書!$N$45<=J69),1,0)","v":1},11,0,1,{"$f":"IF(選定書!$H$61*$O$3>H69,1,0)","v":1}]
[null,"AFU-3000NX(第二種圧力容器)","寸法：φ1200×3425H、接続口径：50A","総容量：3000㍑、最大吸収容量：2400㍑","最高使用圧力：0.8ＭＰａ、最高使用温度：95℃",null,null,3000,2400,0.8,{"$f":"IF(AND(選定書!$H$61<=H70,選定書!$H$51<=I70,選定書!$N$38<=J70,選定書!$N$45<=J70),1,0)","v":1},{"$f":"IF(K70<>0,L69+K70,0)","v":12},{"$f":"IF(L70=1,1,0)","v":0},{"$f":"N69+M70","v":1},{"$f":"IF(選定書!$H$61*$O$3>H70,1,0)","v":1}]
[null,"AFU-4000NX(第二種圧力容器)","寸法：φ1500×3097H、接続口径：50A","総容量：4000㍑、最大吸収容量：3200㍑","最高使用圧力：0.8ＭＰａ、最高使用温度：95℃",null,null,4000,3200,0.8,{"$f":"IF(AND(選定書!$H$61<=H71,選定書!$H$51<=I71,選定書!$N$38<=J71,選定書!$N$45<=J71),1,0)","v":1},{"$f":"IF(K71<>0,L70+K71,0)","v":13},{"$f":"IF(L71=1,1,0)","v":0},{"$f":"N70+M71","v":1},{"$f":"IF(選定書!$H$61*$O$3>H71,1,0)","v":1}]
[null,"AFU-5000NX(第二種圧力容器)","寸法：φ1500×3687H、接続口径：50A","総容量：5050㍑、最大吸収容量：4040㍑","最高使用圧力：0.8ＭＰａ、最高使用温度：95℃",null,null,5050,4040,0.8,{"$f":"IF(AND(選定書!$H$61<=H72,選定書!$H$51<=I72,選定書!$N$38<=J72,選定書!$N$45<=J72),1,0)","v":1},{"$f":"IF(K72<>0,L71+K72,0)","v":14},{"$f":"IF(L72=1,1,0)","v":0},{"$f":"N71+M72","v":1},{"$f":"IF(選定書!$H$61*$O$3>H72,1,0)","v":1}]

{"sheet":"膨張係数","index":4,"n_rows":68,"n_cols":14,"rows_kept":68,"cut":false,"hidden":true,"merged":[[1,1,1,6],[1,8,1,13]]}
[]
[null,"水の膨張係数の計算",null,null,null,null,null,null,"不凍液（50%）の膨張係数の計算"]
[null,null,null,null,null,null,null,null,null,null,null,null,"不凍液（50%）"]
[null,null,null,null,null,"水の容積",null,null,null,null,null,null,"の容積"]
[null,"最低使用温度℃",null,{"$f":"選定書!N22","v":5},null,"　　℃","容積",null,"最低使用温度℃",null,{"$f":"選定書!N22","v":5},null,"　　℃","容積"]
[null,"最高使用温度℃",null,{"$f":"選定書!N24","v":60},null,0,1.00013,null,"最高使用温度℃",null,{"$f":"選定書!N24","v":60},null,-10,{"$f":"$J$26+$J$27*M6+$J$28*M6^2","v":0.92834039999999995}]
[null,"温度差",null,{"$f":"D6-D5","v":55},null,1,1.00007,null,"温度差",null,{"$f":"K6-K5","v":55},null,-9,0.92866940399999987]
[null,null,null,null,null,2,1.00003,null,null,null,null,null,-8,0.92900217600000001]
[null,"最低温度の水の容積",null,{"$f":"IF(D5=D15,D16,D16+(D5-D15)/(D17-D15)*(D18-D16))","v":1.0000100000000001},null,3,1.0000100000000001,null,"最低温度の水の容積",null,{"$f":"IF(K5=K15,K16,K16+(K5-K15)/(K17-K15)*(K18-K16))","v":0.93367109999999998},null,-7,0.92933871599999995]
[null,"最高温度の水の容積",null,{"$f":"IF(D6=D19,D20,D20+(D6-D19)/(D21-D19)*(D22-D20))","v":1.01705},null,4,1,null,"最高温度の水の容積",null,{"$f":"IF(K6=K19,K20,K20+(K6-K19)/(K21-K19)*(K22-K20))","v":0.96047039999999995},null,-6,0.92967902400000002]
[null,null,null,null,null,5,1.0000100000000001,null,null,null,null,null,-5,0.93002309999999988]
[null,"膨張係数",null,{"$f":"(D10/D9/(1+11.8*10^-6*D7)^3)-1","v":1.5062220545158933E-2},null,6,1.00003,null,"膨張係数",null,{"$f":"J29*((K10/K9/(1+11.8*10^-6*K7)^3)-1)","v":3.2043432186912212E-2},null,-4,0.93037094399999998]
[null,null,null,null,null,7,1.00007,null,null,null,null,null,-3,0.93072255599999987]
[null,null,null,null,null,8,1.0001199999999999,null,null,null,null,null,-2,0.93107793599999999]
[null,null,null,{"$f":"LOOKUP(D5,F$6:F$58,F$6:F$58)","v":5},null,9,1.0001899999999999,null,null,null,{"$f":"LOOKUP(K5,M$6:M$68,M$6:M$68)","v":5},null,-1,0.93143708399999992]
[null,null,null,{"$f":"LOOKUP(D15,F$6:F$58,G$6:G$58)","v":1.0000100000000001},null,10,1.00027,null,null,null,{"$f":"LOOKUP(K15,M$6:M$68,N$6:N$68)","v":0.93367109999999998},null,0,0.93179999999999996]
[null,null,null,{"$f":"OFFSET($F$6,MATCH(D15,$F$6:$F$58,0),0,1,1)","v":6},null,11,1.00037,null,null,null,{"$f":"OFFSET($M$6,MATCH(K15,$M$6:$M$68,0),0,1,1)","v":6},null,1,0.93216668400000002]
[null,null,null,{"$f":"LOOKUP(D17,F$6:F$58,G$6:G$58)","v":1.00003},null,12,1.00048,null,null,null,{"$f":"LOOKUP(K17,M$6:M$68,N$6:N$68)","v":0.934056624},null,2,0.93253713599999999]
[null,null,null,{"$f":"LOOKUP(D6,F$6:F$58,F$6:F$58)","v":60},null,13,1.0005999999999999,null,null,null,{"$f":"LOOKUP(K6,M$6:M$68,M$6:M$68)","v":60},null,3,0.93291135599999997]
[null,null,null,{"$f":"LOOKUP(D19,F$6:F$58,G$6:G$58)","v":1.01705},null,14,1.0007299999999999,null,null,null,{"$f":"LOOKUP(K19,M$6:M$68,N$6:N$68)","v":0.96047039999999995},null,4,0.93328934399999997]
[null,null,null,{"$f":"OFFSET($F$6,MATCH(D19,$F$6:$F$58,0),0,1,1)","v":65},null,15,1.0008699999999999,null,null,null,{"$f":"OFFSET($M$6,MATCH(K19,$M$6:$M$68,0),0,1,1)","v":65},null,5,0.93367109999999998]
[null,null,null,{"$f":"LOOKUP(D21,F$6:F$58,G$6:G$58)","v":1.01979},null,16,1.0010300000000001,null,null,null,{"$f":"LOOKUP(K21,M$6:M$68,N$6:N$68)","v":0.96347189999999994},null,6,0.934056624]
[null,null,null,null,null,17,1.0012000000000001,null,null,null,null,null,7,0.93444591600000004]
[null,null,null,null,null,18,1.0013799999999999,null,null,null,null,null,8,0.93483897599999999]
[null,null,null,null,null,19,1.0015700000000001,null,null,null,null,null,9,0.93523580399999995]
[null,null,null,null,null,20,1.00177,null,"a=",0.93179999999999996,null,null,10,0.93563639999999992]
[null,null,null,null,null,21,1.0019899999999999,null,"b=",3.6479999999999998E-4,null,null,11,0.93604076400000003]
[null,null,null,null,null,22,1.00221,null,"c=",1.8840000000000001E-6,null,null,12,0.93644889599999992]
[null,null,null,null,null,23,1.00244,null,"α=",1.2,null,null,13,0.93686079600000005]
[null,null,null,null,null,24,1.0026900000000001,null,null,null,null,null,14,0.93727646399999998]
[null,null,null,null,null,25,1.0029399999999999,null,null,null,null,null,15,0.93769590000000003]
[null,null,null,null,null,26,1.0032000000000001,null,null,null,null,null,16,0.93811910399999998]
[null,null,null,null,null,27,1.0034700000000001,null,null,null,null,null,17,0.93854607599999995]
[null,null,null,null,null,28,1.0037499999999999,null,null,null,null,null,18,0.93897681599999994]
[null,null,null,null,null,29,1.0040500000000001,null,null,null,null,null,19,0.93941132399999994]
[null,null,null,null,null,30,1.0043500000000001,null,null,null,null,null,20,0.93984959999999995]
[null,null,null,null,null,31,1.0046600000000001,null,null,null,null,null,21,0.94029164399999998]
[null,null,null,null,null,32,1.0049699999999999,null,null,null,null,null,22,{"$f":"$J$26+$J$27*M38+$J$28*M38^2","v":0.94073745599999992}]
[null,null,null,null,null,33,1.0053000000000001,null,null,null,null,null,23,0.94118703599999998]
[null,null,null,null,null,34,1.00563,null,null,null,null,null,24,0.94164038399999994]
[null,null,null,null,null,35,1.0059800000000001,null,null,null,null,null,25,0.94209750000000003]
[null,null,null,null,null,36,1.0063299999999999,null,null,null,null,null,26,0.94255838399999992]
[null,null,null,null,null,37,1.0066900000000001,null,null,null,null,null,27,0.94302303599999993]
[null,null,null,null,null,38,1.0070600000000001,null,null,null,null,null,28,0.94349145599999995]
[null,null,null,null,null,39,1.00743,null,null,null,null,null,29,0.94396364399999999]
[null,null,null,null,null,40,1.0078199999999999,null,null,null,null,null,30,0.94443959999999993]
[null,null,null,null,null,45,1.0098499999999999,null,null,null,null,null,31,0.944919324]
[null,null,null,null,null,50,1.01207,null,null,null,null,null,32,0.94540281599999987]
[null,null,null,null,null,55,1.01448,null,null,null,null,null,33,0.94589007599999997]
[null,null,null,null,null,60,1.01705,null,null,null,null,null,34,0.94638110399999986]
[null,null,null,null,null,65,1.01979,null,null,null,null,null,35,0.94687589999999999]
[null,null,null,null,null,70,1.0226999999999999,null,null,null,null,null,36,0.94737446399999992]
[null,null,null,null,null,75,1.02576,null,null,null,null,null,37,0.94787679599999997]
[null,null,null,null,null,80,1.0289900000000001,null,null,null,null,null,38,0.94838289600000003]
[null,null,null,null,null,85,1.03237,null,null,null,null,null,39,0.948892764]
[null,null,null,null,null,90,1.0359,null,null,null,null,null,40,0.94940639999999998]
[null,null,null,null,null,95,1.03959,null,null,null,null,null,45,0.95203109999999991]
[null,null,null,null,null,100,1.0434300000000001,null,null,null,null,null,50,0.95474999999999999]
[null,null,null,null,null,null,null,null,null,null,null,null,55,0.95756309999999989]
[null,null,null,null,null,null,null,null,null,null,null,null,60,0.96047039999999995]
[null,null,null,null,null,null,null,null,null,null,null,null,65,0.96347189999999994]
[null,null,null,null,null,null,null,null,null,null,null,null,70,0.96656759999999997]
[null,null,null,null,null,null,null,null,null,null,null,null,75,0.96975750000000005]
[null,null,null,null,null,null,null,null,null,null,null,null,80,0.97304159999999995]
[null,null,null,null,null,null,null,null,null,null,null,null,85,0.97641990000000001]
[null,null,null,null,null,null,null,null,null,null,null,null,90,0.97989239999999989]
[null,null,null,null,null,null,null,null,null,null,null,null,95,0.98345910000000003]
[null,null,null,null,null,null,null,null,null,null,null,null,100,0.98711999999999989]

{"sheet":"image","index":5,"n_rows":0,"n_cols":0,"rows_kept":0,"cut":false,"hidden":true,"merged":[]}